BEGIN:VCALENDAR
VERSION:2.0
PRODID:-//Library Market//iCal Export//EN
BEGIN:VEVENT
SUMMARY:Food Explorers for Kids
UID:28086
DTSTAMP:20260422T050100Z
DTSTART:20260706T203000Z
DTEND:20260706T213000Z
LOCATION:220 State St., Springfield, MA 01103, United States
ROOM: CL Community Room
DESCRIPTION:Make and enjoy strawberry shortcake parfait in this cooking cl
 ass for kids. Learn through sensory experiences, hands-on activities, and 
 working together to create delicious results!
URL:https://springfield.librarycalendar.com/event/food-explorers-kids-2808
 6
END:VEVENT
END:VCALENDAR
