BEGIN:VCALENDAR
VERSION:2.0
PRODID:-//Library Market//iCal Export//EN
BEGIN:VEVENT
SUMMARY:Food Explorers for Teens
UID:28254
DTSTAMP:20260419T155800Z
DTSTART:20260709T200000Z
DTEND:20260709T210000Z
LOCATION:380 Belmont Ave, Springfield, MA 01105, United States
ROOM: FP Community Room
DESCRIPTION:Make and enjoy pizza stuffed naan breads in this cooking class
  for tweens and teens. Learn through sensory experiences, hands-on activit
 ies, and working together to create delicious results!
URL:https://springfield.librarycalendar.com/event/food-explorers-teens-282
 54
END:VEVENT
END:VCALENDAR
