BEGIN:VCALENDAR
VERSION:2.0
PRODID:-//Library Market//iCal Export//EN
BEGIN:VEVENT
SUMMARY:Food Explorers for Kids
UID:28255
DTSTAMP:20260419T155800Z
DTSTART:20260713T180000Z
DTEND:20260713T190000Z
LOCATION:1187 Parker St., Springfield, MA 01129, United States
ROOM: SA Community Room
DESCRIPTION:Make and enjoy strawberry shortcake parfait in this cooking cl
 ass for kids. Learn through sensory experiences, hands-on activities, and 
 working together to create delicious results!
URL:https://springfield.librarycalendar.com/event/food-explorers-kids-2825
 5
END:VEVENT
END:VCALENDAR
