BEGIN:VCALENDAR
VERSION:2.0
PRODID:-//Library Market//iCal Export//EN
BEGIN:VEVENT
SUMMARY:Food Explorers for Kids
UID:28256
DTSTAMP:20260419T155800Z
DTSTART:20260716T190000Z
DTEND:20260716T200000Z
LOCATION:765 State St., Springfield, MA 01109, United States
ROOM: MS Community Room
DESCRIPTION:Make and enjoy strawberry shortcake parfait in this cooking cl
 ass for kids. Learn through sensory experiences, hands-on activities, and 
 working together to create delicious results!
URL:https://springfield.librarycalendar.com/event/food-explorers-kids-2825
 6
END:VEVENT
END:VCALENDAR
