BEGIN:VCALENDAR
VERSION:2.0
PRODID:-//Library Market//iCal Export//EN
BEGIN:VEVENT
SUMMARY:Food Explorers for Kids
UID:28257
DTSTAMP:20260419T155800Z
DTSTART:20260716T210000Z
DTEND:20260716T220000Z
LOCATION:359 Plainfield St., Springfield, MA 01107, United States
ROOM: BW Community Room
DESCRIPTION:Make and enjoy vegetable spring rolls in this cooking class fo
 r kids. Learn through sensory experiences, hands-on activities, and workin
 g together to create delicious results!
URL:https://springfield.librarycalendar.com/event/food-explorers-kids-2825
 7
END:VEVENT
END:VCALENDAR
