BEGIN:VCALENDAR
VERSION:2.0
PRODID:-//Library Market//iCal Export//EN
BEGIN:VEVENT
SUMMARY:Fairy House
UID:28316
DTSTAMP:20260420T013200Z
DTSTART:20260808T150000Z
DTEND:20260808T183000Z
LOCATION:1187 Parker St., Springfield, MA 01129, United States
ROOM: Children&#039;s Room
DESCRIPTION:Transform a cardboard box into your own fairy or goblin house 
 with markers, paper, and more. Designed for ages 8-9, with all children we
 lcome. Supplies with small parts are limited to children ages 3+. 
URL:https://springfield.librarycalendar.com/event/fairy-house-28316
END:VEVENT
END:VCALENDAR
