BEGIN:VCALENDAR
VERSION:2.0
PRODID:-//Library Market//iCal Export//EN
BEGIN:VEVENT
SUMMARY:Family Paint Workshop Fireworks
UID:28318
DTSTAMP:20260419T155800Z
DTSTART:20260629T173000Z
DTEND:20260629T180000Z
LOCATION:1187 Parker St., Springfield, MA 01129, United States
ROOM: Children&#039;s Room
DESCRIPTION:Families, brighten your summer with a dazzling, easy, and mini
  painting. We provide supplies. You provide the imagination. Dress for a m
 ess! Designed for children 7-10 and their parents or guardians.
URL:https://springfield.librarycalendar.com/event/family-paint-workshop-28
 318
END:VEVENT
END:VCALENDAR
