BEGIN:VCALENDAR
VERSION:2.0
PRODID:-//Library Market//iCal Export//EN
BEGIN:VEVENT
SUMMARY:Family Paint Workshop Fireworks
UID:28322
DTSTAMP:20260420T104000Z
DTSTART:20260702T180000Z
DTEND:20260702T200000Z
LOCATION:359 Plainfield St., Springfield, MA 01107, United States
ROOM: BW Community Room
DESCRIPTION:Families, brighten your summer with a dazzling, easy, and mini
  painting.We provide supplies. You provide the imagination. Dress for a me
 ss! Designed for children 7-10 and their parents or guardians.
URL:https://springfield.librarycalendar.com/event/family-paint-workshop-28
 322
END:VEVENT
END:VCALENDAR
