BEGIN:VCALENDAR
VERSION:2.0
PRODID:-//Library Market//iCal Export//EN
BEGIN:VEVENT
SUMMARY:Family Paint Workshop Flowers
UID:28326
DTSTAMP:20260420T104000Z
DTSTART:20260625T200000Z
DTEND:20260625T210000Z
LOCATION:765 State St., Springfield, MA 01109, United States
ROOM: MS Community Room
DESCRIPTION:Families, brighten your summer with a dazzling, easy, and mini
  painting.We provide supplies. You provide the imagination. Dress for a me
 ss! Designed for children 7-10 and their parents or guardians.
URL:https://springfield.librarycalendar.com/event/family-paint-workshop-28
 326
END:VEVENT
END:VCALENDAR
