BEGIN:VCALENDAR
VERSION:2.0
PRODID:-//Library Market//iCal Export//EN
BEGIN:VEVENT
SUMMARY:Downtown Springfield Summer Reading Kick-Off Party
UID:28511
DTSTAMP:20260420T000800Z
DTSTART:20260620T150000Z
DTEND:20260620T170000Z
LOCATION:220 State St., Springfield, MA 01103, United States
ROOM: Rotunda
DESCRIPTION:Join us for refreshments and fun for all ages at our Summer Re
 ading Kick-off party for the downtown Springfield neighborhood! We&#039;ll
  celebrate throughout our beautiful building and on the Museums Quad. Sign
  up for our Summer Reading Challenge, pick out a free book, and enjoy craf
 ts, games, and more activities for children, teens, and adults!
URL:https://springfield.librarycalendar.com/event/summer-reading-kickoff-2
 8511
END:VEVENT
END:VCALENDAR
