BEGIN:VCALENDAR
VERSION:2.0
PRODID:-//Library Market//iCal Export//EN
BEGIN:VEVENT
SUMMARY:Ice Cream on the Lawn!
UID:28518
DTSTAMP:20260420T000800Z
DTSTART:20260702T174500Z
DTEND:20260702T194500Z
LOCATION:44 Oak St., Indian Orchard, MA 01151, United States
ROOM: IO Community Room
DESCRIPTION:Enjoy some delicious ice cream on our lawn, made yourself! Wi
 th very simple ingredients and a variety of mix-ins, and a bit of muscle p
 ower you will have a yummy sundae. Come early! Rain date is July 9th. 
URL:https://springfield.librarycalendar.com/event/ice-cream-lawn-28518
END:VEVENT
END:VCALENDAR
