BEGIN:VCALENDAR
VERSION:2.0
PRODID:-//Library Market//iCal Export//EN
BEGIN:VEVENT
SUMMARY:BINGO
UID:28581
DTSTAMP:20260420T013200Z
DTSTART:20260604T200000Z
DTEND:20260604T210000Z
LOCATION:765 State St., Springfield, MA 01109, United States
ROOM: MS Community Room
DESCRIPTION:Join us for BINGO at the Mason Square Library. Enjoy a few gam
 es, have a snack, win a prize and spend time with other friends from the c
 ommunity. All are welcome!
URL:https://springfield.librarycalendar.com/event/hold-bingo-28581
END:VEVENT
END:VCALENDAR
