BEGIN:VCALENDAR
VERSION:2.0
PRODID:-//Library Market//iCal Export//EN
BEGIN:VEVENT
SUMMARY:Read with Duchess the Dog
UID:28653
DTSTAMP:20260422T050100Z
DTSTART:20260725T170000Z
DTEND:20260725T180000Z
LOCATION:1187 Parker St., Springfield, MA 01129, United States
ROOM: Children&#039;s Room
DESCRIPTION:Come to a special experience for pre-readers and practiced rea
 ders of all ages!
URL:https://springfield.librarycalendar.com/event/read-duchess-dog-28653
END:VEVENT
END:VCALENDAR
