BEGIN:VCALENDAR
VERSION:2.0
PRODID:-//Library Market//iCal Export//EN
BEGIN:VEVENT
SUMMARY:Monday Funday
UID:28660
DTSTAMP:20260420T000800Z
DTSTART:20260713T183000Z
DTEND:20260713T193000Z
LOCATION:220 State St., Springfield, MA 01103, United States
ROOM: Children&#039;s Program Room
DESCRIPTION:Find out how fun Monday afternoons can be! Join us this summer
  for a different Monday Funday activity each week. We&#039;ll play, build,
  craft, and create! Recommended for children ages 6 and up, but all ages 
 welcome  This weeks activity is Nature Collage! 
URL:https://springfield.librarycalendar.com/event/monday-funday-28660
END:VEVENT
END:VCALENDAR
