BEGIN:VCALENDAR
VERSION:2.0
PRODID:-//Library Market//iCal Export//EN
BEGIN:VEVENT
SUMMARY:Kindness Rocks
UID:28892
DTSTAMP:20260420T013200Z
DTSTART:20260708T170000Z
DTEND:20260708T180000Z
LOCATION:765 State St., Springfield, MA 01109, United States
ROOM: MS Community Room
DESCRIPTION:Paint rocks with encouraging messages to brighten someone&#039
 ;s day. Spread joy throughout the community. All ages.
URL:https://springfield.librarycalendar.com/event/kindness-rocks-28892
END:VEVENT
END:VCALENDAR
