BEGIN:VCALENDAR
VERSION:2.0
PRODID:-//Library Market//iCal Export//EN
BEGIN:VEVENT
SUMMARY:Summer Button Making
UID:28893
DTSTAMP:20260419T155800Z
DTSTART:20260723T200000Z
DTEND:20260723T210000Z
LOCATION:765 State St., Springfield, MA 01109, United States
ROOM: Summer Button Making
DESCRIPTION:Create a fun summertime button at the Mason Square Library. Sh
 ow off your creativity. All ages.
URL:https://springfield.librarycalendar.com/event/summer-button-making-288
 93
END:VEVENT
END:VCALENDAR
