BEGIN:VCALENDAR
VERSION:2.0
PRODID:-//Library Market//iCal Export//EN
BEGIN:VEVENT
SUMMARY:Chalk the Walk
UID:28895
DTSTAMP:20260419T155800Z
DTSTART:20260715T143000Z
DTEND:20260715T153000Z
LOCATION:765 State St., Springfield, MA 01109, United States
ROOM: Chalk the Walk
DESCRIPTION:Decorate the library sidewalk with friendly, fun artwork for o
 ur community.  All ages.
URL:https://springfield.librarycalendar.com/event/chalk-walk-28895
END:VEVENT
END:VCALENDAR
