BEGIN:VCALENDAR
VERSION:2.0
PRODID:-//Library Market//iCal Export//EN
BEGIN:VEVENT
SUMMARY:Flower Power Art
UID:28897
DTSTAMP:20260420T104000Z
DTSTART:20260820T200000Z
DTEND:20260820T210000Z
LOCATION:765 State St., Springfield, MA 01109, United States
ROOM: Flower Power Art
DESCRIPTION:Using a variety of supplies, create your own floral masterpiec
 e.  All ages.
URL:https://springfield.librarycalendar.com/event/flower-power-art-28897
END:VEVENT
END:VCALENDAR
