BEGIN:VCALENDAR
VERSION:2.0
PRODID:-//Library Market//iCal Export//EN
BEGIN:VEVENT
SUMMARY:Little Fingerprint Berries
UID:28902
DTSTAMP:20260419T155800Z
DTSTART:20260713T150000Z
DTEND:20260713T180000Z
LOCATION:44 Oak St., Indian Orchard, MA 01151, United States
ROOM: Little Fingerprint Berries
DESCRIPTION:Using a stamp pad and your baby&#039;s or toddler&#039;s finge
 rs, make a pretty bunch of berries. Keep those little fingerprints forever
 . For babies 5 months+, toddlers, and young children. 
URL:https://springfield.librarycalendar.com/event/little-fingerprint-berri
 es-28902
END:VEVENT
END:VCALENDAR
