BEGIN:VCALENDAR
VERSION:2.0
PRODID:-//Library Market//iCal Export//EN
BEGIN:VEVENT
SUMMARY:Bean Mosaics
UID:28959
DTSTAMP:20260419T155800Z
DTSTART:20260717T180000Z
DTEND:20260717T200000Z
LOCATION:44 Oak St., Indian Orchard, MA 01151, United States
ROOM: IO Community Room
DESCRIPTION:Using a variety of dried beads, markers, and Modge Podge make 
 your own Bean Mosaic. For ages 8 and up. 
URL:https://springfield.librarycalendar.com/event/bean-mosaics-28959
END:VEVENT
END:VCALENDAR
