BEGIN:VCALENDAR
VERSION:2.0
PRODID:-//Library Market//iCal Export//EN
BEGIN:VEVENT
SUMMARY:Switch It Up!
UID:28972
DTSTAMP:20260419T155800Z
DTSTART:20260725T040000Z
DTEND:20260725T040000Z
LOCATION:44 Oak St., Indian Orchard, MA 01151, United States
ROOM: IO Community Room
DESCRIPTION:Switch it Up! with our switch. Play one of our games or bring 
 your own. Bring your controllers, too.Light refreshments will be served. 
 For ages 8 and up. 
URL:https://springfield.librarycalendar.com/event/switch-it-28972
END:VEVENT
END:VCALENDAR
