BEGIN:VCALENDAR
VERSION:2.0
PRODID:-//Library Market//iCal Export//EN
BEGIN:VEVENT
SUMMARY:Sixteen Acres Summer Reading Kick-Off Party
UID:29018
DTSTAMP:20260419T155800Z
DTSTART:20260616T183000Z
DTEND:20260616T210000Z
LOCATION:1187 Parker St., Springfield, MA 01129, United States
ROOM: Sixteen Acres Summer Reading Kick-Off Party
DESCRIPTION:Drop in for refreshments, fun for all ages and a free book whe
 n you register for summer reading.  Enjoy a scavenger hunt, crafts and co
 ol surprises for kids plus board games and a special craft for teens and a
 dults. 
URL:https://springfield.librarycalendar.com/event/summer-reading-kickoff-p
 arty-29018
END:VEVENT
END:VCALENDAR
