BEGIN:VCALENDAR
VERSION:2.0
PRODID:-//Library Market//iCal Export//EN
BEGIN:VEVENT
SUMMARY:Make a Perler Bead Flower Bouquet
UID:29072
DTSTAMP:20260422T050100Z
DTSTART:20260721T180000Z
DTEND:20260721T200000Z
LOCATION:44 Oak St., Indian Orchard, MA 01151, United States
ROOM: IO Community Room
DESCRIPTION:Make a beautiful Perler Bead flower bouquet. For ages 11 and 
 up. 
URL:https://springfield.librarycalendar.com/event/make-perler-bead-flower-
 bouquet-29072
END:VEVENT
END:VCALENDAR
