BEGIN:VCALENDAR
VERSION:2.0
PRODID:-//Library Market//iCal Export//EN
BEGIN:VEVENT
SUMMARY:Back to School Notebook Decoration
UID:29122
DTSTAMP:20260422T021400Z
DTSTART:20260822T150000Z
DTEND:20260822T183000Z
LOCATION:1187 Parker St., Springfield, MA 01129, United States
ROOM: Children&#039;s Room
DESCRIPTION:Join us for a fun craft. Start school in style with your own d
 ecorated notebook. We’ll provide a notebook and supplies; you provide th
 e imagination. Craft supplies are for ages 3+ due to small parts. 
URL:https://springfield.librarycalendar.com/event/back-school-notebook-dec
 oration-29122
END:VEVENT
END:VCALENDAR
