BEGIN:VCALENDAR
VERSION:2.0
PRODID:-//Library Market//iCal Export//EN
BEGIN:VEVENT
SUMMARY:Play with Clay
UID:29128
DTSTAMP:20260420T000800Z
DTSTART:20260812T203000Z
DTEND:20260812T213000Z
LOCATION:21 Osborne Terrace, Springfield, MA 01104, United States
ROOM: Play with Clay
DESCRIPTION:Join us for fun with clay! Dress for a mess. For ages 4+ with 
 parent/guardian support. Guardians please be prepared to assist your child
  and bring home your child&#039;s project. 
URL:https://springfield.librarycalendar.com/event/play-clay-29128
END:VEVENT
END:VCALENDAR
