BEGIN:VCALENDAR
VERSION:2.0
PRODID:-//Library Market//iCal Export//EN
BEGIN:VEVENT
SUMMARY:East Springfield Summer Reading Kick-Off Party
UID:29132
DTSTAMP:20260420T000800Z
DTSTART:20260617T200000Z
DTEND:20260617T220000Z
LOCATION:21 Osborne Terrace, Springfield, MA 01104, United States
ROOM: East Springfield Summer Reading Kick-Off Party
DESCRIPTION:Drop in for refreshments, fun for all ages, and a free book wh
 en you sign up for our Summer Reading Challenge! Enjoy a scavenger hunt, c
 rafts, and cool surprises for kids, plus board games and a special craft f
 or teens and adults.   
URL:https://springfield.librarycalendar.com/event/summer-reading-kickoff-p
 arty-29132
END:VEVENT
END:VCALENDAR
