BEGIN:VCALENDAR
VERSION:2.0
PRODID:-//Library Market//iCal Export//EN
BEGIN:VEVENT
SUMMARY:Make a Nature Print using the Sun!
UID:29200
DTSTAMP:20260419T155800Z
DTSTART:20260817T160000Z
DTEND:20260817T191500Z
LOCATION:44 Oak St., Indian Orchard, MA 01151, United States
ROOM: IO Community Room
DESCRIPTION:Using natural objects - leaves, flowers, and seeds- make a pri
 nt with cyanotype (sun-sensitive) paper. We will be on the lawn. Rain dat
 e is Tuesday, August 18th, 1:30-3:00
URL:https://springfield.librarycalendar.com/event/make-nature-print-using-
 sun-29200
END:VEVENT
END:VCALENDAR
