BEGIN:VCALENDAR
VERSION:2.0
PRODID:-//Library Market//iCal Export//EN
BEGIN:VEVENT
SUMMARY:Plantmobile: Natural Dyes and Fabrics
UID:29212
DTSTAMP:20260419T172700Z
DTSTART:20260710T190000Z
DTEND:20260710T200000Z
LOCATION:136 Surrey Rd., Springfield, MA 01118, United States
ROOM: Plantmobile: Natural Dyes and Fabrics
DESCRIPTION:Hands-on plant science, brought to us by the Massachusetts Hor
 ticultural Society&#039;s Plantmobile!Come learn about native plants used 
 to create clothing, art, and dyes while diving deep into the original tech
 niques for creating art and objects from plants.  Through demonstration a
 nd experimenting, kids will create their own naturally dyed works of art. 
 This event will be outdoors, in the courtyard. Ages 4-13
URL:https://springfield.librarycalendar.com/event/plantmobile-29212
END:VEVENT
END:VCALENDAR
