BEGIN:VCALENDAR
VERSION:2.0
PRODID:-//Library Market//iCal Export//EN
BEGIN:VEVENT
SUMMARY:Plantmobile: Farm Fresh
UID:29213
DTSTAMP:20260419T172700Z
DTSTART:20260710T160000Z
DTEND:20260710T170000Z
LOCATION:136 Surrey Rd., Springfield, MA 01118, United States
ROOM: Plantmobile: Farm Fresh
DESCRIPTION:Hands-on plant science, brought to us by the Massachusetts Hor
 ticultural Society&#039;s Plantmobile!Learn about the food we eat every da
 y! Kids will explore plant parts and traits, the many facets of agricultur
 e, and make connections to the history of New England farming. This event 
 will be outdoors. Ages 4-13
URL:https://springfield.librarycalendar.com/event/plantmobile-29213
END:VEVENT
END:VCALENDAR
