BEGIN:VCALENDAR
VERSION:2.0
PRODID:-//Library Market//iCal Export//EN
BEGIN:VEVENT
SUMMARY:Forest Park Summer Reading Kick-Off Party
UID:29214
DTSTAMP:20260420T000800Z
DTSTART:20260618T200000Z
DTEND:20260618T220000Z
LOCATION:380 Belmont Ave, Springfield, MA 01105, United States
ROOM: Forest Park Summer Reading Kick-Off Party
DESCRIPTION:Kick off Summer Reading at the Forest Park Branch! Sign up for
  our Summer Reading Challenge, pick out a free book, and enjoy snacks, fun
  activities, games for children, teens, and adults!  
URL:https://springfield.librarycalendar.com/event/summer-reading-program-k
 ick-party-forest-park-29214
END:VEVENT
END:VCALENDAR
