BEGIN:VCALENDAR
VERSION:2.0
PRODID:-//Library Market//iCal Export//EN
BEGIN:VEVENT
SUMMARY:PaxSax Concert
UID:29215
DTSTAMP:20260423T224700Z
DTSTART:20260622T220000Z
DTEND:20260622T230000Z
LOCATION:136 Surrey Rd., Springfield, MA 01118, United States
ROOM: EFP Community Room
DESCRIPTION:Visit the library for a musical performance!PaxSax will presen
 t an hour-long concert, playing saxophones ranging from soprano to bariton
 e and bass sax. They perform tightly arranged compositions drawn from an e
 xtensive collection. Their music covers a wide range of genres, from ragti
 me, Americana, show tunes, swing, jazz, to contemporary composers.  Durin
 g their performance they’ll present a little background on each composer
  and composition and look to include lots of conversation with the audienc
 e! PaxSax is a quartet of professional musicians: George Owens (Whately),
  baritone &amp; bass sax, Jon Weeks (Leyden) soprano &amp; alto, Dominic P
 occia (Northampton) alto, and Dave Trenholm (Northampton) tenor.  All hav
 e decades of experience teaching and performing in Latin, swing, jazz, and
  rock bands throughout the region.This program is supported in part by a g
 rant from the Springfield Cultural Council, a local agency of the Massachu
 setts Cultural Council.
URL:https://springfield.librarycalendar.com/event/paxsax-concert-29215
END:VEVENT
END:VCALENDAR
