BEGIN:VCALENDAR
VERSION:2.0
PRODID:-//Library Market//iCal Export//EN
BEGIN:VEVENT
SUMMARY:Read with a Ranger
UID:29253
DTSTAMP:20260419T172700Z
DTSTART:20260710T153000Z
DTEND:20260710T163000Z
LOCATION:21 Osborne Terrace, Springfield, MA 01104, United States
ROOM: Read with a Ranger
DESCRIPTION:Meet new friends and listen to stories about plants, animals a
 nd nature with Ranger Susan! Followed by a simple craft. 
URL:https://springfield.librarycalendar.com/event/read-ranger-29253
END:VEVENT
END:VCALENDAR
