BEGIN:VCALENDAR
VERSION:2.0
PRODID:-//Library Market//iCal Export//EN
BEGIN:VEVENT
SUMMARY:Candle Making Workshop
UID:29265
DTSTAMP:20260419T155800Z
DTSTART:20260725T140000Z
DTEND:20260725T160000Z
LOCATION:220 State St., Springfield, MA 01103, United States
ROOM: CL Community Room
DESCRIPTION:Unwind and get creative at our Candle Making Workshop! This ha
 nds-on class teaches you the art of crafting candles. You will learn how t
 o blend essential oils to create your own unique, calming scent profile. L
 eave feeling relaxed and accomplished with a beautiful, custom-made candle
  to take home. No experience is needed for this fun and soothing craft.
URL:https://springfield.librarycalendar.com/event/hold-candle-making-29265
END:VEVENT
END:VCALENDAR
