BEGIN:VCALENDAR
VERSION:2.0
PRODID:-//Library Market//iCal Export//EN
BEGIN:VEVENT
SUMMARY:Springfield Emergency Communications Dispatch Graduation
UID:29551
DTSTAMP:20260420T104000Z
DTSTART:20260515T163000Z
DTEND:20260515T183000Z
LOCATION:136 Surrey Rd., Springfield, MA 01118, United States
ROOM: EFP Community Room
DESCRIPTION:A graduation event for our 5 new 911 dispatchers, involving sp
 eeches by the Police Dept, Fire Dept, the Mayor, a class speaker, and then
  presentation of certificates.  Family of the graduates and 911 dispatcher
 s are invited to attend.
URL:https://springfield.librarycalendar.com/event/springfield-emergency-co
 mmunications-dispatch-graduation-29551
END:VEVENT
END:VCALENDAR
