BEGIN:VCALENDAR
VERSION:2.0
PRODID:-//Library Market//iCal Export//EN
BEGIN:VEVENT
SUMMARY:Study group
UID:29584
DTSTAMP:20260422T050100Z
DTSTART:20260421T200000Z
DTEND:20260421T204500Z
LOCATION:380 Belmont Ave, Springfield, MA 01105, United States
ROOM: FP Community Room
DESCRIPTION:Studying for important exams coming up, this is the closest lo
 cation to me.
URL:https://springfield.librarycalendar.com/event/study-group-29584
END:VEVENT
END:VCALENDAR
