BEGIN:VCALENDAR
VERSION:2.0
PRODID:-//Library Market//iCal Export//EN
BEGIN:VEVENT
SUMMARY:Play Rehearsal
UID:29624
DTSTAMP:20260423T065900Z
DTSTART:20260422T170000Z
DTEND:20260422T191500Z
LOCATION:380 Belmont Ave, Springfield, MA 01105, United States
ROOM: FP Community Room
DESCRIPTION:to rehearse our play!
URL:https://springfield.librarycalendar.com/event/john-deserves-die-rehers
 al-29624
END:VEVENT
END:VCALENDAR
