BEGIN:VCALENDAR
VERSION:2.0
PRODID:-//Library Market//iCal Export//EN
BEGIN:VEVENT
SUMMARY:CMSS &quot;Joyful Voices&quot; chorus prep
UID:29626
DTSTAMP:20260420T104000Z
DTSTART:20260423T211500Z
DTEND:20260423T233000Z
LOCATION:765 State St., Springfield, MA 01109, United States
ROOM: MS Community Room
DESCRIPTION:Making costumes for our recital in May.
URL:https://springfield.librarycalendar.com/event/cmss-joyful-voices-choru
 s-prep-29626
END:VEVENT
END:VCALENDAR
