BEGIN:VCALENDAR
VERSION:2.0
PRODID:-//Library Market//iCal Export//EN
BEGIN:VEVENT
SUMMARY:Initial Meeting with Scott
UID:29627
DTSTAMP:20260422T130500Z
DTSTART:20260423T144500Z
DTEND:20260423T174500Z
LOCATION:220 State St., Springfield, MA 01103, United States
ROOM: CL Community Room
DESCRIPTION:To meet and discuss helping a person to find meaningful employ
 ment.
URL:https://springfield.librarycalendar.com/event/initial-meeting-scott-29
 627
END:VEVENT
END:VCALENDAR
