BEGIN:VCALENDAR
VERSION:2.0
PRODID:-//Library Market//iCal Export//EN
BEGIN:VEVENT
SUMMARY:artist co-op
UID:29641
DTSTAMP:20260422T050100Z
DTSTART:20260423T130000Z
DTEND:20260423T143000Z
LOCATION:220 State St., Springfield, MA 01103, United States
ROOM: CL Community Room
DESCRIPTION:collaberation
URL:https://springfield.librarycalendar.com/event/artist-co-op-29641
END:VEVENT
END:VCALENDAR
