BEGIN:VCALENDAR
VERSION:2.0
PRODID:-//Library Market//iCal Export//EN
BEGIN:VEVENT
SUMMARY:RFP Technical Assistance Workshop
UID:29655
DTSTAMP:20260422T021400Z
DTSTART:20260512T204500Z
DTEND:20260512T233000Z
LOCATION:359 Plainfield St., Springfield, MA 01107, United States
ROOM: BW Community Room
DESCRIPTION:RFP Technical Assistance Workshop
URL:https://springfield.librarycalendar.com/event/rfp-technical-assistance
 -workshop-29655
END:VEVENT
END:VCALENDAR
